BEGIN:VCALENDAR
VERSION:2.0
PRODID:-//Park Slope Fifth Avenue BID - ECPv6.15.20//NONSGML v1.0//EN
CALSCALE:GREGORIAN
METHOD:PUBLISH
X-WR-CALNAME:Park Slope Fifth Avenue BID
X-ORIGINAL-URL:https://parkslopefifthavenuebid.com
X-WR-CALDESC:Events for Park Slope Fifth Avenue BID
REFRESH-INTERVAL;VALUE=DURATION:PT1H
X-Robots-Tag:noindex
X-PUBLISHED-TTL:PT1H
BEGIN:VTIMEZONE
TZID:America/New_York
BEGIN:DAYLIGHT
TZOFFSETFROM:-0500
TZOFFSETTO:-0400
TZNAME:EDT
DTSTART:20150308T070000
END:DAYLIGHT
BEGIN:STANDARD
TZOFFSETFROM:-0400
TZOFFSETTO:-0500
TZNAME:EST
DTSTART:20151101T060000
END:STANDARD
BEGIN:DAYLIGHT
TZOFFSETFROM:-0500
TZOFFSETTO:-0400
TZNAME:EDT
DTSTART:20160313T070000
END:DAYLIGHT
BEGIN:STANDARD
TZOFFSETFROM:-0400
TZOFFSETTO:-0500
TZNAME:EST
DTSTART:20161106T060000
END:STANDARD
BEGIN:DAYLIGHT
TZOFFSETFROM:-0500
TZOFFSETTO:-0400
TZNAME:EDT
DTSTART:20170312T070000
END:DAYLIGHT
BEGIN:STANDARD
TZOFFSETFROM:-0400
TZOFFSETTO:-0500
TZNAME:EST
DTSTART:20171105T060000
END:STANDARD
END:VTIMEZONE
BEGIN:VEVENT
DTSTART;TZID=America/New_York:20161210T100000
DTEND;TZID=America/New_York:20161210T120000
DTSTAMP:20260422T223852
CREATED:20161101T173542Z
LAST-MODIFIED:20161101T174339Z
UID:921-1481364000-1481371200@parkslopefifthavenuebid.com
SUMMARY:Santa Collecting your Dosh at OSH - Second Visit of Three
DESCRIPTION:     Come see Santa at The Old Stone House \nSaturday\, December 10th from 10am to 12pm \n \nCome support The Old Stone House in the 2nd annual photo session with Santa\, in partnership with Park Slope Parents and us at the BID.  Photos will be taken on a first come\, first serve basis for $10.   Photographer Marc Goldberg will make his professional photos available on his website for purchase\, and you’re welcome to snap your own photo as well. \nCrafts\, cocoa and candy canes. \nAll proceeds to The Old Stone House. \n\n 
URL:https://parkslopefifthavenuebid.com/event/santa-collecting-your-dosh-at-osh-second-visit-to-theother5th/
LOCATION:The Old Stone House\, 336 3rd Street\, Brooklyn\, NY\, 11215\, United States
ATTACH;FMTTYPE=image/jpeg:https://parkslopefifthavenuebid.com/wp-content/uploads/2016/11/12348144_942074815840002_4838507408592492747_n-1.jpg
END:VEVENT
END:VCALENDAR